BEGIN:VCALENDAR
VERSION:2.0
CALSCALE:GREGORIAN
PRODID:-//Diputació de Barcelona//DibaCMS//EN
BEGIN:VEVENT
UID:28681
DTSTAMP:20260423T135709
DTSTART:20240402T183000
DTEND:20240402T183000
SUMMARY:Acte. Autisme
LOCATION:Carrer Major, 32 - Carrer Domènec Fins, 15 08110 Montcada i Reixac
METHOD:PUBLISH
X-WR-CALNAME:oac@montcada.org
X-WR-TIMEZONE:Europe/Madrid
DESCRIPTION:
URI:https://www.montcada.cat/ajuntament/govern/agenda-politica/hemeroteca-agenda-politica/acte-autisme.html
CLASS:PUBLIC
END:VEVENT
END:VCALENDAR
