BEGIN:VCALENDAR
VERSION:2.0
CALSCALE:GREGORIAN
PRODID:-//Diputació de Barcelona//DibaCMS//EN
BEGIN:VEVENT
UID:28642
DTSTAMP:20260423T051539
DTSTART:20240404T183000
DTEND:20240404T183000
SUMMARY:Acte. Jornades del Soterrament 2024
LOCATION:Carrer Major, 32 - Carrer Domènec Fins, 15 08110 Montcada i Reixac
METHOD:PUBLISH
X-WR-CALNAME:oac@montcada.org
X-WR-TIMEZONE:Europe/Madrid
DESCRIPTION:Homenatge a les victimes del tren

URI:https://www.montcada.cat/ajuntament/govern/agenda-politica/hemeroteca-agenda-politica/28642-acte-jornades-del-soterrament-2024.html
CLASS:PUBLIC
END:VEVENT
END:VCALENDAR
