BEGIN:VCALENDAR
VERSION:2.0
CALSCALE:GREGORIAN
PRODID:-//Diputació de Barcelona//DibaCMS//EN
BEGIN:VEVENT
UID:28589
DTSTAMP:20260423T073327
DTSTART:20240411T100000
DTEND:20240411T100000
SUMMARY:Visita institucional. Amazon
LOCATION:Carrer del Mig, 77– P.I. Pla d’en Coll 
METHOD:PUBLISH
X-WR-CALNAME:oac@montcada.org
X-WR-TIMEZONE:Europe/Madrid
DESCRIPTION:
URI:https://www.montcada.cat/ajuntament/govern/agenda-politica/hemeroteca-agenda-politica/visita-institucional-amazon.html
CLASS:PUBLIC
END:VEVENT
END:VCALENDAR
