BEGIN:VCALENDAR
VERSION:2.0
CALSCALE:GREGORIAN
PRODID:-//Diputació de Barcelona//DibaCMS//EN
BEGIN:VEVENT
UID:28584
DTSTAMP:20260423T051854
DTSTART:20240403T160000
DTEND:20240403T160000
SUMMARY:Acte. Presentació projecte Ecojove del programa Ocell de Foc
LOCATION:Casal Pere IV - auditori (Rambla 69 Sabadell) 
METHOD:PUBLISH
X-WR-CALNAME:oac@montcada.org
X-WR-TIMEZONE:Europe/Madrid
DESCRIPTION:
URI:https://www.montcada.cat/ajuntament/govern/agenda-politica/hemeroteca-agenda-politica/acte-presentacio-projecte-ecojove-del-programa-ocell-de-foc.html
CLASS:PUBLIC
END:VEVENT
END:VCALENDAR
