BEGIN:VCALENDAR
VERSION:2.0
CALSCALE:GREGORIAN
PRODID:-//Diputació de Barcelona//DibaCMS//EN
BEGIN:VEVENT
UID:28561
DTSTAMP:20260423T114147
DTSTART:20240324T180000
DTEND:20240324T180000
SUMMARY:Acte. Dia Mundial del Teatre - Premis Dalmau
LOCATION:Carrer Tarragona, 32       08110 Montcada i Reixac
METHOD:PUBLISH
X-WR-CALNAME:oac@montcada.org
X-WR-TIMEZONE:Europe/Madrid
DESCRIPTION:
URI:https://www.montcada.cat/ajuntament/govern/agenda-politica/hemeroteca-agenda-politica/acte-dia-mundial-del-teatre-premis-dalmau.html
CLASS:PUBLIC
END:VEVENT
END:VCALENDAR
