BEGIN:VCALENDAR
VERSION:2.0
CALSCALE:GREGORIAN
PRODID:-//Diputació de Barcelona//DibaCMS//EN
BEGIN:VEVENT
UID:28479
DTSTAMP:20260423T103752
DTSTART:20240314T133000
DTEND:20240314T133000
SUMMARY:Reunió. Seguiment situació sequera
LOCATION:Àrea Metropolitana de Barcelona 
METHOD:PUBLISH
X-WR-CALNAME:oac@montcada.org
X-WR-TIMEZONE:Europe/Madrid
DESCRIPTION:
URI:https://www.montcada.cat/ajuntament/govern/agenda-politica/hemeroteca-agenda-politica/reunio-seguiment-situacio-sequera.html
CLASS:PUBLIC
END:VEVENT
END:VCALENDAR
