BEGIN:VCALENDAR
VERSION:2.0
CALSCALE:GREGORIAN
PRODID:-//Diputació de Barcelona//DibaCMS//EN
BEGIN:VEVENT
UID:28457
DTSTAMP:20260423T075339
DTSTART:20240320T180000
DTEND:20240320T180000
SUMMARY:Visita. Noves instal·lacions La Veu de Montcada
LOCATION:Carrer Major, 18 
METHOD:PUBLISH
X-WR-CALNAME:oac@montcada.org
X-WR-TIMEZONE:Europe/Madrid
DESCRIPTION:
URI:https://www.montcada.cat/ajuntament/govern/agenda-politica/hemeroteca-agenda-politica/visita-noves-installacions-la-veu-de-montcada.html
CLASS:PUBLIC
END:VEVENT
END:VCALENDAR
