BEGIN:VCALENDAR
VERSION:2.0
CALSCALE:GREGORIAN
PRODID:-//Diputació de Barcelona//DibaCMS//EN
BEGIN:VEVENT
UID:28456
DTSTAMP:20260423T075155
DTSTART:20240320T110000
DTEND:20240320T110000
SUMMARY:Reunió. AV Can Sant Joan
LOCATION:Av. de la Unitat, 6 08110  Montcada i Reixac
METHOD:PUBLISH
X-WR-CALNAME:oac@montcada.org
X-WR-TIMEZONE:Europe/Madrid
DESCRIPTION:Tema: El Rec es Mou

URI:https://www.montcada.cat/ajuntament/govern/agenda-politica/hemeroteca-agenda-politica/reunio-av-can-sant-joan.html
CLASS:PUBLIC
END:VEVENT
END:VCALENDAR
