BEGIN:VCALENDAR
VERSION:2.0
CALSCALE:GREGORIAN
PRODID:-//Diputació de Barcelona//DibaCMS//EN
BEGIN:VEVENT
UID:28453
DTSTAMP:20260423T085540
DTSTART:20240318T200000
DTEND:20240318T200000
SUMMARY:Acte. Nit del Comerç 2024
LOCATION:Centre de Negocis Nodus Barberà ( Cr. Mogoda 1 - Barberà del Vallès) 
METHOD:PUBLISH
X-WR-CALNAME:oac@montcada.org
X-WR-TIMEZONE:Europe/Madrid
DESCRIPTION:
URI:https://www.montcada.cat/ajuntament/govern/agenda-politica/hemeroteca-agenda-politica/acte-nit-del-comerc-2024.html
CLASS:PUBLIC
END:VEVENT
END:VCALENDAR
