BEGIN:VCALENDAR
VERSION:2.0
CALSCALE:GREGORIAN
PRODID:-//Diputació de Barcelona//DibaCMS//EN
BEGIN:VEVENT
UID:28452
DTSTAMP:20260423T075055
DTSTART:20240318T130000
DTEND:20240318T130000
SUMMARY:Reunió. Francisco Javier Aguado, president de La Unió de Mas Rampinyo
LOCATION:Av. de la Unitat, 6 08110  Montcada i Reixac
METHOD:PUBLISH
X-WR-CALNAME:oac@montcada.org
X-WR-TIMEZONE:Europe/Madrid
DESCRIPTION:
URI:https://www.montcada.cat/ajuntament/govern/agenda-politica/hemeroteca-agenda-politica/reunio-francisco-javier-aguado-president-de-la-unio-de-mas-rampinyo.html
CLASS:PUBLIC
END:VEVENT
END:VCALENDAR
