BEGIN:VCALENDAR
VERSION:2.0
CALSCALE:GREGORIAN
PRODID:-//Diputació de Barcelona//DibaCMS//EN
BEGIN:VEVENT
UID:28449
DTSTAMP:20260423T111731
DTSTART:20240312T111500
DTEND:20240312T111500
SUMMARY:Visita. Yogaterapia Barcelona
LOCATION:
METHOD:PUBLISH
X-WR-CALNAME:oac@montcada.org
X-WR-TIMEZONE:Europe/Madrid
DESCRIPTION:
URI:https://www.montcada.cat/ajuntament/govern/agenda-politica/hemeroteca-agenda-politica/visita-yogaterapia-barcelona.html
CLASS:PUBLIC
END:VEVENT
END:VCALENDAR
