BEGIN:VCALENDAR
VERSION:2.0
CALSCALE:GREGORIAN
PRODID:-//Diputació de Barcelona//DibaCMS//EN
BEGIN:VEVENT
UID:28363
DTSTAMP:20260423T111658
DTSTART:20240314T140000
DTEND:20240314T140000
SUMMARY:Reunió. Consell de comerç
LOCATION:Carrer Major, 32 - Carrer Domènec Fins, 15 08110 Montcada i Reixac
METHOD:PUBLISH
X-WR-CALNAME:oac@montcada.org
X-WR-TIMEZONE:Europe/Madrid
DESCRIPTION:Temes: sequera i seguretat

URI:https://www.montcada.cat/ajuntament/govern/agenda-politica/hemeroteca-agenda-politica/reunio-consell-de-comerc.html
CLASS:PUBLIC
END:VEVENT
END:VCALENDAR
