BEGIN:VCALENDAR
VERSION:2.0
CALSCALE:GREGORIAN
PRODID:-//Diputació de Barcelona//DibaCMS//EN
BEGIN:VEVENT
UID:28360
DTSTAMP:20260423T100224
DTSTART:20240309T200000
DTEND:20240309T200000
SUMMARY:Acte. Teatre Jauría
LOCATION:Carrer Tarragona, 32       08110 Montcada i Reixac
METHOD:PUBLISH
X-WR-CALNAME:oac@montcada.org
X-WR-TIMEZONE:Europe/Madrid
DESCRIPTION:
URI:https://www.montcada.cat/ajuntament/govern/agenda-politica/hemeroteca-agenda-politica/acte-teatre-jauria.html
CLASS:PUBLIC
END:VEVENT
END:VCALENDAR
