BEGIN:VCALENDAR
VERSION:2.0
CALSCALE:GREGORIAN
PRODID:-//Diputació de Barcelona//DibaCMS//EN
BEGIN:VEVENT
UID:28347
DTSTAMP:20260423T090539
DTSTART:20240306T173000
DTEND:20240306T173000
SUMMARY:Acte. Retorn estudis urbanístics sobre Montcada estudiants UPC
LOCATION: c. Masia, 39       08110 Montcada i Reixac
METHOD:PUBLISH
X-WR-CALNAME:oac@montcada.org
X-WR-TIMEZONE:Europe/Madrid
DESCRIPTION:
URI:https://www.montcada.cat/ajuntament/govern/agenda-politica/hemeroteca-agenda-politica/acte-retorn-estudis-urbanistics-sobre-montcada-estudiants-upc.html
CLASS:PUBLIC
END:VEVENT
END:VCALENDAR
