BEGIN:VCALENDAR
VERSION:2.0
CALSCALE:GREGORIAN
PRODID:-//Diputació de Barcelona//DibaCMS//EN
BEGIN:VEVENT
UID:28346
DTSTAMP:20260423T104124
DTSTART:20240304T141000
DTEND:20240304T141000
SUMMARY:Entrevista. Ràdio Estel
LOCATION:
METHOD:PUBLISH
X-WR-CALNAME:oac@montcada.org
X-WR-TIMEZONE:Europe/Madrid
DESCRIPTION:Tema: barraquisme

URI:https://www.montcada.cat/ajuntament/govern/agenda-politica/hemeroteca-agenda-politica/entrevista-radio-estel.html
CLASS:PUBLIC
END:VEVENT
END:VCALENDAR
