BEGIN:VCALENDAR
VERSION:2.0
CALSCALE:GREGORIAN
PRODID:-//Diputació de Barcelona//DibaCMS//EN
BEGIN:VEVENT
UID:28334
DTSTAMP:20260423T084946
DTSTART:20240312T180000
DTEND:20240312T180000
SUMMARY:Reunió. María Trujillo, presidenta AV Montcada Llevant
LOCATION:
METHOD:PUBLISH
X-WR-CALNAME:oac@montcada.org
X-WR-TIMEZONE:Europe/Madrid
DESCRIPTION:
URI:https://www.montcada.cat/ajuntament/govern/agenda-politica/hemeroteca-agenda-politica/reunio-maria-trujillo-presidenta-av-montcada-llevant.html
CLASS:PUBLIC
END:VEVENT
END:VCALENDAR
