BEGIN:VCALENDAR
VERSION:2.0
CALSCALE:GREGORIAN
PRODID:-//Diputació de Barcelona//DibaCMS//EN
BEGIN:VEVENT
UID:28235
DTSTAMP:20260423T111758
DTSTART:20240308T193000
DTEND:20240308T193000
SUMMARY:8M 2024
LOCATION:
METHOD:PUBLISH
X-WR-CALNAME:oac@montcada.org
X-WR-TIMEZONE:Europe/Madrid
DESCRIPTION:Acte central

URI:https://www.montcada.cat/ajuntament/govern/agenda-politica/hemeroteca-agenda-politica/8m-2024.html
CLASS:PUBLIC
END:VEVENT
END:VCALENDAR
