BEGIN:VCALENDAR
VERSION:2.0
CALSCALE:GREGORIAN
PRODID:-//Diputació de Barcelona//DibaCMS//EN
BEGIN:VEVENT
UID:28234
DTSTAMP:20260423T091506
DTSTART:20240301T093000
DTEND:20240301T093000
SUMMARY:Reunió. Mercedes Duran, directora honorífica del Museu Municipal i presidenta dels Amics del Museu
LOCATION:Av. de la Unitat, 6 08110  Montcada i Reixac
METHOD:PUBLISH
X-WR-CALNAME:oac@montcada.org
X-WR-TIMEZONE:Europe/Madrid
DESCRIPTION:
URI:https://www.montcada.cat/ajuntament/govern/agenda-politica/hemeroteca-agenda-politica/reunio-mercedes-duran-directora-honorifica-del-museu-municipal-i-presidenta-dels-amics-del-museu.html
CLASS:PUBLIC
END:VEVENT
END:VCALENDAR
