BEGIN:VCALENDAR
VERSION:2.0
CALSCALE:GREGORIAN
PRODID:-//Diputació de Barcelona//DibaCMS//EN
BEGIN:VEVENT
UID:28220
DTSTAMP:20260423T102315
DTSTART:20240304T163000
DTEND:20240304T163000
SUMMARY:Reunió. Juan Valls, subdirector Productos Turísticos y Operaciones Fundació del Ferrocarril
LOCATION:Av. de la Unitat, 6 08110  Montcada i Reixac
METHOD:PUBLISH
X-WR-CALNAME:oac@montcada.org
X-WR-TIMEZONE:Europe/Madrid
DESCRIPTION:
URI:https://www.montcada.cat/ajuntament/govern/agenda-politica/hemeroteca-agenda-politica/reunio-juan-valls-subdirector-productos-turisticos-y-operaciones-fundacio-del-ferrocarril.html
CLASS:PUBLIC
END:VEVENT
END:VCALENDAR
