BEGIN:VCALENDAR
VERSION:2.0
CALSCALE:GREGORIAN
PRODID:-//Diputació de Barcelona//DibaCMS//EN
BEGIN:VEVENT
UID:28209
DTSTAMP:20260423T103014
DTSTART:20240319T110000
DTEND:20240319T110000
SUMMARY:Reunió. Comissió Institucional redactora i de seguiment del PAM 2024-27
LOCATION:Àrea Metropolitana de Barcelona 
METHOD:PUBLISH
X-WR-CALNAME:oac@montcada.org
X-WR-TIMEZONE:Europe/Madrid
DESCRIPTION:
URI:https://www.montcada.cat/ajuntament/govern/agenda-politica/hemeroteca-agenda-politica/reunio-comissio-institucional-redactora-i-de-seguiment-del-pam-2024-27.html
CLASS:PUBLIC
END:VEVENT
END:VCALENDAR
