BEGIN:VCALENDAR
VERSION:2.0
CALSCALE:GREGORIAN
PRODID:-//Diputació de Barcelona//DibaCMS//EN
BEGIN:VEVENT
UID:28206
DTSTAMP:20260423T102354
DTSTART:20240305T113000
DTEND:20240305T113000
SUMMARY:Reunió. Xavier Amor, diputat adjunt de l'Àrea d'Esports i Activitat Física
LOCATION:Av. de la Unitat, 6 08110  Montcada i Reixac
METHOD:PUBLISH
X-WR-CALNAME:oac@montcada.org
X-WR-TIMEZONE:Europe/Madrid
DESCRIPTION:
URI:https://www.montcada.cat/ajuntament/govern/agenda-politica/hemeroteca-agenda-politica/reunio-xavier-amor-diputat-adjunt-de-larea-desports-i-activitat-fisica.html
CLASS:PUBLIC
END:VEVENT
END:VCALENDAR
