BEGIN:VCALENDAR
VERSION:2.0
CALSCALE:GREGORIAN
PRODID:-//Diputació de Barcelona//DibaCMS//EN
BEGIN:VEVENT
UID:28192
DTSTAMP:20260423T123935
DTSTART:20240308T120000
DTEND:20240308T210000
SUMMARY:Dia de les Dones Treballadores 2024
LOCATION:Av. de la Unitat, 6 08110  Montcada i Reixac
METHOD:PUBLISH
X-WR-CALNAME:oac@montcada.org
X-WR-TIMEZONE:Europe/Madrid
DESCRIPTION:
URI:https://www.montcada.cat/actualitat/agenda/dia-de-les-dones-treballadores-2024.html
CLASS:PUBLIC
END:VEVENT
END:VCALENDAR
