BEGIN:VCALENDAR
VERSION:2.0
CALSCALE:GREGORIAN
PRODID:-//Diputació de Barcelona//DibaCMS//EN
BEGIN:VEVENT
UID:28178
DTSTAMP:20260423T152220
DTSTART:20240315T000000
DTEND:20240317T000000
SUMMARY:Acte. Congrés PSC
LOCATION:Palau de Congresos de Catalunya 
METHOD:PUBLISH
X-WR-CALNAME:oac@montcada.org
X-WR-TIMEZONE:Europe/Madrid
DESCRIPTION:
URI:https://www.montcada.cat/ajuntament/govern/agenda-politica/hemeroteca-agenda-politica/acte-congres-psc.html
CLASS:PUBLIC
END:VEVENT
END:VCALENDAR
