BEGIN:VCALENDAR
VERSION:2.0
CALSCALE:GREGORIAN
PRODID:-//Diputació de Barcelona//DibaCMS//EN
BEGIN:VEVENT
UID:28087
DTSTAMP:20260423T152546
DTSTART:20240223T174500
DTEND:20240223T174500
SUMMARY:Acte. Signatura conveni PSC
LOCATION:Terrassa 
METHOD:PUBLISH
X-WR-CALNAME:oac@montcada.org
X-WR-TIMEZONE:Europe/Madrid
DESCRIPTION:
URI:https://www.montcada.cat/ajuntament/govern/agenda-politica/hemeroteca-agenda-politica/acte-signatura-conveni-psc.html
CLASS:PUBLIC
END:VEVENT
END:VCALENDAR
