BEGIN:VCALENDAR
VERSION:2.0
CALSCALE:GREGORIAN
PRODID:-//Diputació de Barcelona//DibaCMS//EN
BEGIN:VEVENT
UID:28084
DTSTAMP:20260423T090357
DTSTART:20240301T183000
DTEND:20240301T183000
SUMMARY:Acte. Presentació nou número Monte Catano
LOCATION: pl. de l'Església, 12       08110 Montcada i Reixac
METHOD:PUBLISH
X-WR-CALNAME:oac@montcada.org
X-WR-TIMEZONE:Europe/Madrid
DESCRIPTION:
URI:https://www.montcada.cat/ajuntament/govern/agenda-politica/hemeroteca-agenda-politica/acte-presentacio-nou-numero-monte-catano.html
CLASS:PUBLIC
END:VEVENT
END:VCALENDAR
