BEGIN:VCALENDAR
VERSION:2.0
CALSCALE:GREGORIAN
PRODID:-//Diputació de Barcelona//DibaCMS//EN
BEGIN:VEVENT
UID:28081
DTSTAMP:20260423T111146
DTSTART:20240311T093000
DTEND:20240311T093000
SUMMARY:Reunió. Joan Ferrero, mòssen de la parròquia de Santa Engràcia
LOCATION:Av. de la Unitat, 6 08110  Montcada i Reixac
METHOD:PUBLISH
X-WR-CALNAME:oac@montcada.org
X-WR-TIMEZONE:Europe/Madrid
DESCRIPTION:Tema: obres campanari

URI:https://www.montcada.cat/ajuntament/govern/agenda-politica/hemeroteca-agenda-politica/reunio-joan-ferrero-mossen-de-la-parroquia-de-santa-engracia.html
CLASS:PUBLIC
END:VEVENT
END:VCALENDAR
