BEGIN:VCALENDAR
VERSION:2.0
CALSCALE:GREGORIAN
PRODID:-//Diputació de Barcelona//DibaCMS//EN
BEGIN:VEVENT
UID:28063
DTSTAMP:20260423T130028
DTSTART:20240303T113000
DTEND:20240303T113000
SUMMARY:Acte. Presentació cartell i pregó Setmana Santa
LOCATION:Carrer Drac, s/n       08110 Montcada i Reixac
METHOD:PUBLISH
X-WR-CALNAME:oac@montcada.org
X-WR-TIMEZONE:Europe/Madrid
DESCRIPTION:Organitza: Cofradía Virgen de los Dolores

URI:https://www.montcada.cat/ajuntament/govern/agenda-politica/hemeroteca-agenda-politica/acte-presentacio-cartell-i-prego-setmana-santa.html
CLASS:PUBLIC
END:VEVENT
END:VCALENDAR
