BEGIN:VCALENDAR
VERSION:2.0
CALSCALE:GREGORIAN
PRODID:-//Diputació de Barcelona//DibaCMS//EN
BEGIN:VEVENT
UID:28059
DTSTAMP:20260426T062517
DTSTART:20240526T113000
DTEND:20240526T133000
SUMMARY:Jugatecambiental. Bioblitz metropolità. Ciència ciutadana
LOCATION:Carrer Mas Duran, 2 08110 Montcada i Reixac
METHOD:PUBLISH
X-WR-CALNAME:oac@montcada.org
X-WR-TIMEZONE:Europe/Madrid
DESCRIPTION:Ens ajudes a fer un inventari de fauna i flora del parc?

URI:https://www.montcada.cat/actualitat/agenda/28059-jugatecambiental-bioblitz-metropolita-ciencia-ciutadana.html
CLASS:PUBLIC
END:VEVENT
END:VCALENDAR
