BEGIN:VCALENDAR
VERSION:2.0
CALSCALE:GREGORIAN
PRODID:-//Diputació de Barcelona//DibaCMS//EN
BEGIN:VEVENT
UID:28026
DTSTAMP:20260423T073926
DTSTART:20240313T190000
DTEND:20240313T190000
SUMMARY:Acte. Inauguració exposició Cartells Dia de la Dona 
LOCATION:Carrer Major, 32 - Carrer Domènec Fins, 15 08110 Montcada i Reixac
METHOD:PUBLISH
X-WR-CALNAME:oac@montcada.org
X-WR-TIMEZONE:Europe/Madrid
DESCRIPTION:
URI:https://www.montcada.cat/ajuntament/govern/agenda-politica/hemeroteca-agenda-politica/acte-inauguracio-exposicio-cartells-dia-de-la-dona-.html
CLASS:PUBLIC
END:VEVENT
END:VCALENDAR
