BEGIN:VCALENDAR
VERSION:2.0
CALSCALE:GREGORIAN
PRODID:-//Diputació de Barcelona//DibaCMS//EN
BEGIN:VEVENT
UID:28025
DTSTAMP:20260423T113703
DTSTART:20240313T163000
DTEND:20240313T163000
SUMMARY:Reunió. Consell Administració TERSA
LOCATION:TERSA (Av. Eduard Maristany, 44, 08930  Sant Adrià de Besòs) 
METHOD:PUBLISH
X-WR-CALNAME:oac@montcada.org
X-WR-TIMEZONE:Europe/Madrid
DESCRIPTION:
URI:https://www.montcada.cat/ajuntament/govern/agenda-politica/hemeroteca-agenda-politica/28025-reunio-consell-administracio-tersa.html
CLASS:PUBLIC
END:VEVENT
END:VCALENDAR
