BEGIN:VCALENDAR
VERSION:2.0
CALSCALE:GREGORIAN
PRODID:-//Diputació de Barcelona//DibaCMS//EN
BEGIN:VEVENT
UID:28017
DTSTAMP:20260423T113740
DTSTART:20240304T100000
DTEND:20240304T100000
SUMMARY:Acte. Coneguem l'Ajuntament
LOCATION:Carrer Major, 32 - Carrer Domènec Fins, 15 08110 Montcada i Reixac
METHOD:PUBLISH
X-WR-CALNAME:oac@montcada.org
X-WR-TIMEZONE:Europe/Madrid
DESCRIPTION:3r Escola El Viver

URI:https://www.montcada.cat/ajuntament/govern/agenda-politica/hemeroteca-agenda-politica/28017-acte-coneguem-lajuntament.html
CLASS:PUBLIC
END:VEVENT
END:VCALENDAR
