BEGIN:VCALENDAR
VERSION:2.0
CALSCALE:GREGORIAN
PRODID:-//Diputació de Barcelona//DibaCMS//EN
BEGIN:VEVENT
UID:28016
DTSTAMP:20260423T105145
DTSTART:20240219T093000
DTEND:20240219T093000
SUMMARY:Acte. Inici activitats Pedals als Parc Metropolitans - AMB
LOCATION:Avinguda de la Unitat 08110 Montcada i Reixac
METHOD:PUBLISH
X-WR-CALNAME:oac@montcada.org
X-WR-TIMEZONE:Europe/Madrid
DESCRIPTION:
URI:https://www.montcada.cat/ajuntament/govern/agenda-politica/hemeroteca-agenda-politica/acte-inici-activitats-pedals-als-parc-metropolitans-amb.html
CLASS:PUBLIC
END:VEVENT
END:VCALENDAR
