BEGIN:VCALENDAR
VERSION:2.0
CALSCALE:GREGORIAN
PRODID:-//Diputació de Barcelona//DibaCMS//EN
BEGIN:VEVENT
UID:27952
DTSTAMP:20260423T204102
DTSTART:20240215T173000
DTEND:20240215T173000
SUMMARY:Reunió. Entitats esportives
LOCATION:Carrer Major, 32 - Carrer Domènec Fins, 15 08110 Montcada i Reixac
METHOD:PUBLISH
X-WR-CALNAME:oac@montcada.org
X-WR-TIMEZONE:Europe/Madrid
DESCRIPTION:Tema: emergència sequera

URI:https://www.montcada.cat/ajuntament/govern/agenda-politica/hemeroteca-agenda-politica/reunio-entitats-esportives.html
CLASS:PUBLIC
END:VEVENT
END:VCALENDAR
