BEGIN:VCALENDAR
VERSION:2.0
CALSCALE:GREGORIAN
PRODID:-//Diputació de Barcelona//DibaCMS//EN
BEGIN:VEVENT
UID:27942
DTSTAMP:20260423T090316
DTSTART:20240314T170000
DTEND:20240314T170000
SUMMARY:Reunió. Alcaldes/sses Comissió seguiment riu Besòs
LOCATION:Agència Catalana de l’Aigua 
METHOD:PUBLISH
X-WR-CALNAME:oac@montcada.org
X-WR-TIMEZONE:Europe/Madrid
DESCRIPTION:Tema: aprofitament dels recursos hídrics del riu Besòs

URI:https://www.montcada.cat/ajuntament/govern/agenda-politica/hemeroteca-agenda-politica/reunio-alcaldessses-comissio-seguiment-riu-besos.html
CLASS:PUBLIC
END:VEVENT
END:VCALENDAR
