BEGIN:VCALENDAR
VERSION:2.0
CALSCALE:GREGORIAN
PRODID:-//Diputació de Barcelona//DibaCMS//EN
BEGIN:VEVENT
UID:27941
DTSTAMP:20260423T102725
DTSTART:20240301T121500
DTEND:20240301T121500
SUMMARY:Reunió. Salvador Illa, primer secretari del PSC
LOCATION:Seu PSC Barcelona 
METHOD:PUBLISH
X-WR-CALNAME:oac@montcada.org
X-WR-TIMEZONE:Europe/Madrid
DESCRIPTION:
URI:https://www.montcada.cat/ajuntament/govern/agenda-politica/hemeroteca-agenda-politica/reunio-salvador-illa-primer-secretari-del-psc.html
CLASS:PUBLIC
END:VEVENT
END:VCALENDAR
