BEGIN:VCALENDAR
VERSION:2.0
CALSCALE:GREGORIAN
PRODID:-//Diputació de Barcelona//DibaCMS//EN
BEGIN:VEVENT
UID:27924
DTSTAMP:20260423T102043
DTSTART:20240229T200000
DTEND:20240229T200000
SUMMARY:Acte. Lliurament premis concurs aparadors de Nadal
LOCATION:Hotel Urpí - Sabadell  
METHOD:PUBLISH
X-WR-CALNAME:oac@montcada.org
X-WR-TIMEZONE:Europe/Madrid
DESCRIPTION:
URI:https://www.montcada.cat/ajuntament/govern/agenda-politica/hemeroteca-agenda-politica/acte-lliurament-premis-concurs-aparadors-de-nadal.html
CLASS:PUBLIC
END:VEVENT
END:VCALENDAR
