BEGIN:VCALENDAR
VERSION:2.0
CALSCALE:GREGORIAN
PRODID:-//Diputació de Barcelona//DibaCMS//EN
BEGIN:VEVENT
UID:27919
DTSTAMP:20260423T140254
DTSTART:20240216T120000
DTEND:20240216T120000
SUMMARY:Acte. Visita avia centenària
LOCATION:
METHOD:PUBLISH
X-WR-CALNAME:oac@montcada.org
X-WR-TIMEZONE:Europe/Madrid
DESCRIPTION:
URI:https://www.montcada.cat/ajuntament/govern/agenda-politica/hemeroteca-agenda-politica/acte-visita-avia-centenaria.html
CLASS:PUBLIC
END:VEVENT
END:VCALENDAR
