BEGIN:VCALENDAR
VERSION:2.0
CALSCALE:GREGORIAN
PRODID:-//Diputació de Barcelona//DibaCMS//EN
BEGIN:VEVENT
UID:27899
DTSTAMP:20260423T192231
DTSTART:20240215T093000
DTEND:20240215T093000
SUMMARY:Acte. Comissió Institucional PAM 2024-2027 AMB
LOCATION:Àrea Metropolitana de Barcelona - C/ 62, núm. 16-18 - Zona Franca - 08040 Barcelona 
METHOD:PUBLISH
X-WR-CALNAME:oac@montcada.org
X-WR-TIMEZONE:Europe/Madrid
DESCRIPTION:
URI:https://www.montcada.cat/ajuntament/govern/agenda-politica/hemeroteca-agenda-politica/acte-comissio-institucional-pam-2024-2027-amb.html
CLASS:PUBLIC
END:VEVENT
END:VCALENDAR
