BEGIN:VCALENDAR
VERSION:2.0
CALSCALE:GREGORIAN
PRODID:-//Diputació de Barcelona//DibaCMS//EN
BEGIN:VEVENT
UID:27898
DTSTAMP:20260423T180707
DTSTART:20240209T190000
DTEND:20240209T190000
SUMMARY:Acte. lliurament premis concurs  Vestits Vermells
LOCATION:Carrer Alt de Sant Pere, 73       08110 Montcada i Reixac
METHOD:PUBLISH
X-WR-CALNAME:oac@montcada.org
X-WR-TIMEZONE:Europe/Madrid
DESCRIPTION:
URI:https://www.montcada.cat/ajuntament/govern/agenda-politica/hemeroteca-agenda-politica/acte-lliurament-premis-concurs-vestits-vermells.html
CLASS:PUBLIC
END:VEVENT
END:VCALENDAR
