BEGIN:VCALENDAR
VERSION:2.0
CALSCALE:GREGORIAN
PRODID:-//Diputació de Barcelona//DibaCMS//EN
BEGIN:VEVENT
UID:27895
DTSTAMP:20260423T232805
DTSTART:20240210T201500
DTEND:20240210T201500
SUMMARY:Acte. Partit d'handbol
LOCATION:Camí de la Font Freda, 3       08110 Montcada i Reixac
METHOD:PUBLISH
X-WR-CALNAME:oac@montcada.org
X-WR-TIMEZONE:Europe/Madrid
DESCRIPTION:CH La Salle - Palautordera (sènior 1a estatal)

URI:https://www.montcada.cat/ajuntament/govern/agenda-politica/hemeroteca-agenda-politica/27895-acte-partit-dhandbol.html
CLASS:PUBLIC
END:VEVENT
END:VCALENDAR
