BEGIN:VCALENDAR
VERSION:2.0
CALSCALE:GREGORIAN
PRODID:-//Diputació de Barcelona//DibaCMS//EN
BEGIN:VEVENT
UID:27875
DTSTAMP:20260423T205238
DTSTART:20240212T123000
DTEND:20240212T123000
SUMMARY:Reunió. Antonio Balmón, vicepresident executiu AMB
LOCATION:Àrea Metropolitana de Barcelona 
METHOD:PUBLISH
X-WR-CALNAME:oac@montcada.org
X-WR-TIMEZONE:Europe/Madrid
DESCRIPTION:
URI:https://www.montcada.cat/ajuntament/govern/agenda-politica/hemeroteca-agenda-politica/reunio-antonio-balmon-vicepresident-executiu-amb.html
CLASS:PUBLIC
END:VEVENT
END:VCALENDAR
