BEGIN:VCALENDAR
VERSION:2.0
CALSCALE:GREGORIAN
PRODID:-//Diputació de Barcelona//DibaCMS//EN
BEGIN:VEVENT
UID:27871
DTSTAMP:20260424T031648
DTSTART:20240209T153000
DTEND:20240209T153000
SUMMARY:Acte. Carnaval La Salle
LOCATION:Passeig Sant Joan Baptista de la Salle, 1       08110 Montcada i Reixac
METHOD:PUBLISH
X-WR-CALNAME:oac@montcada.org
X-WR-TIMEZONE:Europe/Madrid
DESCRIPTION:
URI:https://www.montcada.cat/ajuntament/govern/agenda-politica/hemeroteca-agenda-politica/acte-carnaval-la-salle.html
CLASS:PUBLIC
END:VEVENT
END:VCALENDAR
