BEGIN:VCALENDAR
VERSION:2.0
CALSCALE:GREGORIAN
PRODID:-//Diputació de Barcelona//DibaCMS//EN
BEGIN:VEVENT
UID:27868
DTSTAMP:20260423T164138
DTSTART:20240207T093000
DTEND:20240207T093000
SUMMARY:Visita. Inauguració botiga Pa Artesà
LOCATION:
METHOD:PUBLISH
X-WR-CALNAME:oac@montcada.org
X-WR-TIMEZONE:Europe/Madrid
DESCRIPTION:
URI:https://www.montcada.cat/ajuntament/govern/agenda-politica/hemeroteca-agenda-politica/visita-inauguracio-botiga-pa-artesa.html
CLASS:PUBLIC
END:VEVENT
END:VCALENDAR
