BEGIN:VCALENDAR
VERSION:2.0
CALSCALE:GREGORIAN
PRODID:-//Diputació de Barcelona//DibaCMS//EN
BEGIN:VEVENT
UID:27844
DTSTAMP:20260423T141415
DTSTART:20240207T080000
DTEND:20240207T080000
SUMMARY:Reunió. Reunió mesa d'emergència per la Sequera
LOCATION:Av. de la Unitat, 6 08110  Montcada i Reixac
METHOD:PUBLISH
X-WR-CALNAME:oac@montcada.org
X-WR-TIMEZONE:Europe/Madrid
DESCRIPTION:
URI:https://www.montcada.cat/ajuntament/govern/agenda-politica/hemeroteca-agenda-politica/reunio-reunio-mesa-demergencia-per-la-sequera.html
CLASS:PUBLIC
END:VEVENT
END:VCALENDAR
