BEGIN:VCALENDAR
VERSION:2.0
CALSCALE:GREGORIAN
PRODID:-//Diputació de Barcelona//DibaCMS//EN
BEGIN:VEVENT
UID:27741
DTSTAMP:20260423T164257
DTSTART:20240211T120000
DTEND:20240211T120000
SUMMARY:Acte. Lliurament de premis del Concurs de sardines Carnavaleres i Ball infantil
LOCATION:08110 Montcada i Reixac
METHOD:PUBLISH
X-WR-CALNAME:oac@montcada.org
X-WR-TIMEZONE:Europe/Madrid
DESCRIPTION:
URI:https://www.montcada.cat/ajuntament/govern/agenda-politica/hemeroteca-agenda-politica/acte-lliurament-de-premis-del-concurs-de-sardines-carnavaleres-i-ball-infantil.html
CLASS:PUBLIC
END:VEVENT
END:VCALENDAR
