BEGIN:VCALENDAR
VERSION:2.0
CALSCALE:GREGORIAN
PRODID:-//Diputació de Barcelona//DibaCMS//EN
BEGIN:VEVENT
UID:27737
DTSTAMP:20260424T043027
DTSTART:20240201T113000
DTEND:20240201T113000
SUMMARY:Entrevista. ElDiario.es
LOCATION:
METHOD:PUBLISH
X-WR-CALNAME:oac@montcada.org
X-WR-TIMEZONE:Europe/Madrid
DESCRIPTION:
URI:https://www.montcada.cat/ajuntament/govern/agenda-politica/hemeroteca-agenda-politica/entrevista-eldiarioes.html
CLASS:PUBLIC
END:VEVENT
END:VCALENDAR
