BEGIN:VCALENDAR
VERSION:2.0
CALSCALE:GREGORIAN
PRODID:-//Diputació de Barcelona//DibaCMS//EN
BEGIN:VEVENT
UID:27730
DTSTAMP:20260423T124938
DTSTART:20240208T163000
DTEND:20240208T163000
SUMMARY:Acte. Arribada del Rei Carnestoltes 
LOCATION:08110 Montcada i Reixac
METHOD:PUBLISH
X-WR-CALNAME:oac@montcada.org
X-WR-TIMEZONE:Europe/Madrid
DESCRIPTION:
URI:https://www.montcada.cat/ajuntament/govern/agenda-politica/hemeroteca-agenda-politica/acte-arribada-del-rei-carnestoltes-.html
CLASS:PUBLIC
END:VEVENT
END:VCALENDAR
