BEGIN:VCALENDAR
VERSION:2.0
CALSCALE:GREGORIAN
PRODID:-//Diputació de Barcelona//DibaCMS//EN
BEGIN:VEVENT
UID:27713
DTSTAMP:20260425T171419
DTSTART:20240505T080000
DTEND:20240505T080000
SUMMARY:Montcada Camina 2024. Sant Fost-Ermita de Sant Cebrià de Cabanyes (16 km)
LOCATION:Sortida: a les 8 h, al Pavelló Miquel Poblet (Camí de la Font Freda, 3) 
METHOD:PUBLISH
X-WR-CALNAME:oac@montcada.org
X-WR-TIMEZONE:Europe/Madrid
DESCRIPTION:Cicle de sortides per descobrir indrets de Montcada i Reixac i els seus voltants

URI:https://www.montcada.cat/actualitat/agenda/montcada-camina-2024-sant-fost-ermita-de-sant-cebria-de-cabanyes-16-km.html
CLASS:PUBLIC
END:VEVENT
END:VCALENDAR
