BEGIN:VCALENDAR
VERSION:2.0
CALSCALE:GREGORIAN
PRODID:-//Diputació de Barcelona//DibaCMS//EN
BEGIN:VEVENT
UID:27677
DTSTAMP:20260423T220817
DTSTART:20240129T120000
DTEND:20240129T120000
SUMMARY:Visita d'obres. Inici soterrament
LOCATION:Carrer Horts amb carrer Conca 
METHOD:PUBLISH
X-WR-CALNAME:oac@montcada.org
X-WR-TIMEZONE:Europe/Madrid
DESCRIPTION:
URI:https://www.montcada.cat/ajuntament/govern/agenda-politica/hemeroteca-agenda-politica/visita-dobres-inici-soterrament.html
CLASS:PUBLIC
END:VEVENT
END:VCALENDAR
