BEGIN:VCALENDAR
VERSION:2.0
CALSCALE:GREGORIAN
PRODID:-//Diputació de Barcelona//DibaCMS//EN
BEGIN:VEVENT
UID:27623
DTSTAMP:20260424T010423
DTSTART:20240201T090000
DTEND:20240201T090000
SUMMARY:Reunió. Grup municipal socialista de Badalona
LOCATION:Seu PSC Montcada i Reixac 
METHOD:PUBLISH
X-WR-CALNAME:oac@montcada.org
X-WR-TIMEZONE:Europe/Madrid
DESCRIPTION:
URI:https://www.montcada.cat/ajuntament/govern/agenda-politica/hemeroteca-agenda-politica/reunio-grup-municipal-socialista-de-badalona.html
CLASS:PUBLIC
END:VEVENT
END:VCALENDAR
